BEGIN:VCALENDAR
VERSION:2.0
PRODID:-//UKG Academy for Computer Science and Education - ECPv6.10.3//NONSGML v1.0//EN
CALSCALE:GREGORIAN
METHOD:PUBLISH
X-WR-CALNAME:UKG Academy for Computer Science and Education
X-ORIGINAL-URL:https://academy.cs.fiu.edu
X-WR-CALDESC:Events for UKG Academy for Computer Science and Education
REFRESH-INTERVAL;VALUE=DURATION:PT1H
X-Robots-Tag:noindex
X-PUBLISHED-TTL:PT1H
BEGIN:VTIMEZONE
TZID:America/New_York
BEGIN:DAYLIGHT
TZOFFSETFROM:-0500
TZOFFSETTO:-0400
TZNAME:EDT
DTSTART:20220313T070000
END:DAYLIGHT
BEGIN:STANDARD
TZOFFSETFROM:-0400
TZOFFSETTO:-0500
TZNAME:EST
DTSTART:20221106T060000
END:STANDARD
END:VTIMEZONE
BEGIN:VEVENT
DTSTART;TZID=America/New_York:20220620T090000
DTEND;TZID=America/New_York:20220725T160000
DTSTAMP:20260424T175308
CREATED:20220601T191553Z
LAST-MODIFIED:20220601T191553Z
UID:1605-1655715600-1658764800@academy.cs.fiu.edu
SUMMARY:Summer Research for High School and Middle School Students at FIU
DESCRIPTION:If you are a high school or middle school student interested in artificial intelligence\, machine learning\, or bioinformatics\, then this is an opportunity for you.  \nThis is a chance to get some experience in the fields stated above. This research opportunity takes place at the Machine Learning and Data Analytics Group (MLDAG) Lab.  \nThe project is NetDA – Protein Network-Based Software for Disease Analysis Using Cliques\, Bipartite Graphs\, and Diffusion Kernels.  \nThe flyer can be also be found at NetDA Opportunity Flyer.  \n  \nDuration of Research Opportunity: June 20\, 2022 – July 25\, 2022 (5 weeks) \nDaily Schedule: 9:00 AM – 4:00 PM \nLunch vouchers will be provided to all the students involved. \nHigh school students will also receive a stipend. \n  \nRequirements:  \n\nStudents with a good math background and should have a personal laptop for use\nHigh school students must have taken a programming course\nSend your resume to Dr. Mondal at amondal@fiu.edu\n\n 
URL:https://academy.cs.fiu.edu/event/summer-research-for-high-school-and-middle-school-students-at-fiu/
LOCATION:FIU School of Computing and Information Sciences\, 11200 SW 8th St\, Miami\, FL\, 33199\, United States
ORGANIZER;CN="Academy For CS Education":MAILTO:academy-admin@cis.fiu.edu
END:VEVENT
END:VCALENDAR